BEGIN:VCALENDAR
VERSION:2.0
PRODID:icalendar-ruby
CALSCALE:GREGORIAN
BEGIN:VEVENT
DTSTAMP:20260422T144103Z
UID:4c2998c2-34c2-4db0-b502-847f220a6bca
DTSTART;TZID=Pacific/Auckland:20260426T111500
DTEND;TZID=Pacific/Auckland:20260426T120000
DESCRIPTION:Property ID# 606797
SUMMARY:Openhome for 46 Veitches Road
END:VEVENT
END:VCALENDAR
