BEGIN:VCALENDAR
VERSION:2.0
PRODID:icalendar-ruby
CALSCALE:GREGORIAN
BEGIN:VEVENT
DTSTAMP:20260420T053231Z
UID:0a605374-e845-4578-8dc9-ad1668cc68fb
DTSTART;VALUE=DATE:20260506
DESCRIPTION:Property ID# 606713\, Locatoin: 3 Deans Avenue\, Riccarton\, Ch
 ristchurch\, Time: 4:00PM
SUMMARY:Auction for 11 Moreton Green
END:VEVENT
END:VCALENDAR
