BEGIN:VCALENDAR
VERSION:2.0
PRODID:icalendar-ruby
CALSCALE:GREGORIAN
BEGIN:VEVENT
DTSTAMP:20260419T150023Z
UID:12793552-7de0-4391-b857-7217ca607204
DTSTART;VALUE=DATE:20260506
DESCRIPTION:Property ID# 606235\, Locatoin: Holmwood Auction Rooms\, 397-39
 9 Ilam Road\, Ilam \, Time: 10:00AM
SUMMARY:Auction for 6 Walsall Street
END:VEVENT
END:VCALENDAR
