BEGIN:VCALENDAR
VERSION:2.0
PRODID:icalendar-ruby
CALSCALE:GREGORIAN
BEGIN:VEVENT
DTSTAMP:20260419T150121Z
UID:207abcdc-7e39-4ee3-a55b-95e5ed04657a
DTSTART;VALUE=DATE:20251105
DESCRIPTION:Property ID# 598230\, Locatoin: Holmwood Auction Rooms: 397 Ila
 m Road\, Time: 10:00AM
SUMMARY:Auction for 
END:VEVENT
END:VCALENDAR
