BEGIN:VCALENDAR
VERSION:2.0
PRODID:icalendar-ruby
CALSCALE:GREGORIAN
BEGIN:VEVENT
DTSTAMP:20260419T150104Z
UID:97c67bd8-2b73-4e1f-8dd5-38e17bc9d271
DTSTART;VALUE=DATE:20251022
DESCRIPTION:Property ID# 598035\, Locatoin: Holmwood Auction Rooms: 397 Ila
 m Road\, Time: 10:00AM
SUMMARY:Auction for 
END:VEVENT
END:VCALENDAR
