BEGIN:VCALENDAR
VERSION:2.0
PRODID:icalendar-ruby
CALSCALE:GREGORIAN
BEGIN:VEVENT
DTSTAMP:20260419T150822Z
UID:eb7106b8-c7f5-4207-977d-f05ca7f1dd03
DTSTART;VALUE=DATE:20250924
DESCRIPTION:Property ID# 596940\, Locatoin: 399 Ilam Road (unless sold prio
 r)\, Time: 12:00PM
SUMMARY:Auction for 
END:VEVENT
END:VCALENDAR
