BEGIN:VCALENDAR
VERSION:2.0
PRODID:icalendar-ruby
CALSCALE:GREGORIAN
BEGIN:VEVENT
DTSTAMP:20210120T230602Z
UID:4e85f78c-dcd8-4cc7-b64a-47befb23c3d4
DTSTART;TZID=Pacific/Auckland:20210120T170000
DTEND;TZID=Pacific/Auckland:20210120T180000
DESCRIPTION:Property ID# 497368
SUMMARY:Openhome for 50 Godley Drive
END:VEVENT
END:VCALENDAR
