BEGIN:VCALENDAR
VERSION:2.0
PRODID:icalendar-ruby
CALSCALE:GREGORIAN
BEGIN:VEVENT
DTSTAMP:20210120T231602Z
UID:fa76cf55-33f6-4e67-8a40-6b4caeab62ef
DTSTART;TZID=Pacific/Auckland:20210121T120000
DTEND;TZID=Pacific/Auckland:20210121T124500
DESCRIPTION:Property ID# 499732
SUMMARY:Openhome for 153 Petrie Street
END:VEVENT
END:VCALENDAR
