BEGIN:VCALENDAR
VERSION:2.0
PRODID:icalendar-ruby
CALSCALE:GREGORIAN
BEGIN:VEVENT
DTSTAMP:20210120T231605Z
UID:ba1cc5a9-e920-4e0d-9754-ec7ffc9d6832
DTSTART;VALUE=DATE:20210203
DESCRIPTION:Property ID# 499732\, Locatoin: Holmwood Auction Rooms\, Ground
  Floor\, 397 - 399 Ilam Road\, Ilam (unless sold prior)\, Time: 10:00AM
SUMMARY:Auction for 153 Petrie Street
END:VEVENT
END:VCALENDAR
