BEGIN:VCALENDAR
VERSION:2.0
PRODID:icalendar-ruby
CALSCALE:GREGORIAN
BEGIN:VEVENT
DTSTAMP:20210120T230640Z
UID:5f1bcfb6-e850-4db5-91e7-4d3d79cde975
DTSTART;VALUE=DATE:20210119
DESCRIPTION:Property ID# 499238\, Locatoin: Harcourts Holmwood\, 397 - 399 
 Ilam Road\, Ilam\, Time: 10:00AM
SUMMARY:Auction for 
END:VEVENT
END:VCALENDAR
