BEGIN:VCALENDAR
VERSION:2.0
PRODID:icalendar-ruby
CALSCALE:GREGORIAN
BEGIN:VEVENT
DTSTAMP:20210120T231610Z
UID:22f9d85b-dcfa-4c16-9fc1-0a484d0ffa18
DTSTART;VALUE=DATE:20210118
DESCRIPTION:Property ID# 499166\, Locatoin: Holmwood Auction Rooms\, Ground
  Floor\, 397 - 399 Ilam Road (unless sold prior)\, Time: 4:00AM
SUMMARY:Auction for 
END:VEVENT
END:VCALENDAR
