BEGIN:VCALENDAR
VERSION:2.0
PRODID:icalendar-ruby
CALSCALE:GREGORIAN
BEGIN:VEVENT
DTSTAMP:20210120T231608Z
UID:9ba0765f-d900-4f72-99db-538b07621164
DTSTART;VALUE=DATE:20210203
DESCRIPTION:Property ID# 498551\, Locatoin: Holmwood Auction Rooms\, Ground
  Floor\, 397 - 399 Ilam Road\, Ilam (unless sold prior)\, Time: 10:00AM
SUMMARY:Auction for 22B Highfield Place
END:VEVENT
END:VCALENDAR
