BEGIN:VCALENDAR
VERSION:2.0
PRODID:icalendar-ruby
CALSCALE:GREGORIAN
BEGIN:VEVENT
DTSTAMP:20210120T230643Z
UID:f19ff1e3-3506-4096-a319-d5857d4b6099
DTSTART;VALUE=DATE:20201207
DESCRIPTION:Property ID# 496181\, Locatoin: Holmwood Auction Rooms\, Ground
  Floor\, 397 - 399 Ilam Road (unless sold prior)\, Time: 12:00PM
SUMMARY:Auction for 
END:VEVENT
END:VCALENDAR
