BEGIN:VCALENDAR
VERSION:2.0
PRODID:icalendar-ruby
CALSCALE:GREGORIAN
BEGIN:VEVENT
DTSTAMP:20210120T230648Z
UID:325063da-a669-4294-9bb7-4964a40214b2
DTSTART;VALUE=DATE:20201104
DESCRIPTION:Property ID# 492566\, Locatoin: Harcourts Holmwood\, 397 - 399 
 Ilam Road\, Ilam (unless sold prior)\, Time: 10:00AM
SUMMARY:Auction for 
END:VEVENT
END:VCALENDAR
