BEGIN:VCALENDAR
VERSION:2.0
PRODID:icalendar-ruby
CALSCALE:GREGORIAN
BEGIN:VEVENT
DTSTAMP:20210120T230653Z
UID:db46f0ee-35e1-4b32-9ba8-f2b194e9d310
DTSTART;VALUE=DATE:20200924
DESCRIPTION:Property ID# 488862\, Locatoin: 98 Moorhouse Avenue\, Christchu
 rch\, Time: 12:00PM
SUMMARY:Auction for 
END:VEVENT
END:VCALENDAR
