BEGIN:VCALENDAR
VERSION:2.0
PRODID:icalendar-ruby
CALSCALE:GREGORIAN
BEGIN:VEVENT
DTSTAMP:20210120T231219Z
UID:3abf4639-7277-4592-b4de-3f634acd137f
DTSTART;VALUE=DATE:20200828
DESCRIPTION:Property ID# 485805\, Time: 12:00PM
SUMMARY:Auction for 
END:VEVENT
END:VCALENDAR
