BEGIN:VCALENDAR
VERSION:2.0
PRODID:icalendar-ruby
CALSCALE:GREGORIAN
BEGIN:VEVENT
DTSTAMP:20210120T231008Z
UID:1baf4af4-97c4-4f1f-8e1a-aafb23f640c0
DTSTART;VALUE=DATE:20200611
DESCRIPTION:Property ID# 481004\, Locatoin: 98 Moorhouse Ave\, Time: 12:00P
 M
SUMMARY:Auction for 
END:VEVENT
END:VCALENDAR
