BEGIN:VCALENDAR
VERSION:2.0
PRODID:icalendar-ruby
CALSCALE:GREGORIAN
BEGIN:VEVENT
DTSTAMP:20210120T231206Z
UID:e77042fd-e437-4ef5-afa1-98970b1f46b8
DTSTART;VALUE=DATE:20200520
DESCRIPTION:Property ID# 479668\, Time: 10:00AM
SUMMARY:Auction for 
END:VEVENT
END:VCALENDAR
