BEGIN:VCALENDAR
VERSION:2.0
PRODID:icalendar-ruby
CALSCALE:GREGORIAN
BEGIN:VEVENT
DTSTAMP:20210120T230631Z
UID:41317021-56af-4824-b4ac-0ef2d9203e51
DTSTART;VALUE=DATE:20200324
DESCRIPTION:Property ID# 476379\, Locatoin: Harcourts gold Auction Rooms\, 
 471 Papanui Road\, Papanui\, Time: 5:00PM
SUMMARY:Auction for 
END:VEVENT
END:VCALENDAR
