BEGIN:VCALENDAR
VERSION:2.0
PRODID:icalendar-ruby
CALSCALE:GREGORIAN
BEGIN:VEVENT
DTSTAMP:20210120T230638Z
UID:04c97a78-e3d3-4977-8a3f-4858f3e49e80
DTSTART;VALUE=DATE:20191207
DESCRIPTION:Property ID# 467789\, Locatoin: Harcourt's Gold Auction Rooms\,
  471 Papanui Road\, Christchurch\, Time: 12:45PM
SUMMARY:Auction for 
END:VEVENT
END:VCALENDAR
