BEGIN:VCALENDAR
VERSION:2.0
PRODID:icalendar-ruby
CALSCALE:GREGORIAN
BEGIN:VEVENT
DTSTAMP:20210120T230655Z
UID:ff2be11c-b3c3-4837-b268-d81a51491a7e
DTSTART;VALUE=DATE:20190822
DESCRIPTION:Property ID# 458436\, Locatoin: Grenadier House\, 98 Moorhouse 
 Avenue (unless sold prior)\, Time: 12:00PM
SUMMARY:Auction for 
END:VEVENT
END:VCALENDAR
